BEGIN:VCALENDAR
VERSION:2.0
PRODID:-//Art Exhibitions UK - ECPv4.9.10//NONSGML v1.0//EN
CALSCALE:GREGORIAN
METHOD:PUBLISH
X-WR-CALNAME:Art Exhibitions UK
X-ORIGINAL-URL:http://www.artexhibitions.org.uk
X-WR-CALDESC:Events for Art Exhibitions UK
BEGIN:VTIMEZONE
TZID:Europe/Paris
BEGIN:DAYLIGHT
TZOFFSETFROM:+0100
TZOFFSETTO:+0200
TZNAME:CEST
DTSTART:20170326T010000
END:DAYLIGHT
BEGIN:STANDARD
TZOFFSETFROM:+0200
TZOFFSETTO:+0100
TZNAME:CET
DTSTART:20171029T010000
END:STANDARD
END:VTIMEZONE
BEGIN:VEVENT
DTSTART;TZID=Europe/Paris:20170524T120000
DTEND;TZID=Europe/Paris:20170528T170000
DTSTAMP:20260422T111002
CREATED:20170524T133246Z
LAST-MODIFIED:20170524T133246Z
UID:618-1495627200-1495990800@www.artexhibitions.org.uk
SUMMARY:Central Saint Martins Degree Show One\, London
DESCRIPTION:We’re pleased to welcome you to the Central Saint Martins BA Fine Art Degree Show 2017. \nOpening times:\n24th 12:00 – 20:00\n25th 12:00 – 20:00\n26th 12:00 – 20:00\n27th 12:00 – 17:00\n28th 12:00 – 17:00 \nFor press inquiries\, please contact us via:\ninstabafacsm@gmail.com \nShare this:Click to share on Twitter (Opens in new window)Click to share on Facebook (Opens in new window)Click to share on Google+ (Opens in new window)Click to share on Pinterest (Opens in new window)Click to share on Tumblr (Opens in new window)\n\n	Related\n
URL:http://www.artexhibitions.org.uk/event/central-saint-martins-degree-show-one-london/
LOCATION:Central Saint Martins\, 1 Granary Square\, London\, N1C 4\, United Kingdom
CATEGORIES:Art Exhibition,Degree Show,Group Art Show,London
ATTACH;FMTTYPE=image/jpeg:http://www.artexhibitions.org.uk/wp-content/uploads/2017/05/b938e3554e0b6bb145783911f9e441a5.jpg
END:VEVENT
END:VCALENDAR