BEGIN:VCALENDAR
VERSION:2.0
PRODID:-//Art Exhibitions UK - ECPv4.9.10//NONSGML v1.0//EN
CALSCALE:GREGORIAN
METHOD:PUBLISH
X-WR-CALNAME:Art Exhibitions UK
X-ORIGINAL-URL:http://www.artexhibitions.org.uk
X-WR-CALDESC:Events for Art Exhibitions UK
BEGIN:VTIMEZONE
TZID:UTC
BEGIN:STANDARD
TZOFFSETFROM:+0000
TZOFFSETTO:+0000
TZNAME:UTC
DTSTART:20180101T000000
END:STANDARD
END:VTIMEZONE
BEGIN:VEVENT
DTSTART;TZID=UTC:20180322T190000
DTEND;TZID=UTC:20180322T210000
DTSTAMP:20260421T091429
CREATED:20180318T170315Z
LAST-MODIFIED:20180318T175244Z
UID:909-1521745200-1521752400@www.artexhibitions.org.uk
SUMMARY:Drink & Draw\, Leyden Gallery\, London
DESCRIPTION:Drink & Draw\nDrink & Draw – Life drawing with wine! Have you ever wanted to try life drawing? If so\, now is your chance to join a friendly and supportive group for all levels. \nGroups sizes are limited to 14 so there are plenty of opportunities to share your work & to receive tips and feedback. All abilities welcome! \nEvent Details\nThursday 22nd March 2018\n19:00 – 21:00\nThis week we welcome the fabulous model Tuuli back to Leyden Gallery \nExpect a warm welcome to the life drawing workshop\, which is guided by gallery director and artist Lindsay Moran. This is an opportunity for anyone who wants to start\, continue\, or improve their life-drawing skills. \nPaper\, board and professional model are provided – please remember to bring your own drawing materials. \nTickets include a free glass of wine or a beer from our artBar! \nShare this:Click to share on Twitter (Opens in new window)Click to share on Facebook (Opens in new window)Click to share on Google+ (Opens in new window)Click to share on Pinterest (Opens in new window)Click to share on Tumblr (Opens in new window)\n\n	Related\n
URL:http://www.artexhibitions.org.uk/event/drink-draw-leyden-gallery-london/
LOCATION:Leyden Gallery\, 9 Leyden Street\, London\, E1 7LE\, United Kingdom
CATEGORIES:Art Class,Art Workshop,Life Drawing,London
ATTACH;FMTTYPE=image/jpeg:http://www.artexhibitions.org.uk/wp-content/uploads/2018/03/e6d048e08e2d548e448ec431dd228c8e.jpg
END:VEVENT
END:VCALENDAR