BEGIN:VCALENDAR
VERSION:2.0
PRODID:-//Art Exhibitions UK - ECPv4.9.10//NONSGML v1.0//EN
CALSCALE:GREGORIAN
METHOD:PUBLISH
X-WR-CALNAME:Art Exhibitions UK
X-ORIGINAL-URL:http://www.artexhibitions.org.uk
X-WR-CALDESC:Events for Art Exhibitions UK
BEGIN:VTIMEZONE
TZID:Europe/Paris
BEGIN:DAYLIGHT
TZOFFSETFROM:+0100
TZOFFSETTO:+0200
TZNAME:CEST
DTSTART:20170326T010000
END:DAYLIGHT
BEGIN:STANDARD
TZOFFSETFROM:+0200
TZOFFSETTO:+0100
TZNAME:CET
DTSTART:20171029T010000
END:STANDARD
END:VTIMEZONE
BEGIN:VEVENT
DTSTART;TZID=Europe/Paris:20170519T170000
DTEND;TZID=Europe/Paris:20170521T170000
DTSTAMP:20260422T111932
CREATED:20170519T172828Z
LAST-MODIFIED:20170519T172828Z
UID:627-1495213200-1495386000@www.artexhibitions.org.uk
SUMMARY:FRESH artisan market\, Norwich
DESCRIPTION:FRESH ARTisan Market with Print to the People\nGreat artists and makers\, new brewers and bakers\, pop-up workshops and more\, showing at the Old Shoe Factory Social Club (St Mary’s Works\, Norwich). \nOpening Times\nFriday 5-9pm with live music from The Foreign Locals \nSaturday and Sunday 11-5pm \n  \nShare this:Click to share on Twitter (Opens in new window)Click to share on Facebook (Opens in new window)Click to share on Google+ (Opens in new window)Click to share on Pinterest (Opens in new window)Click to share on Tumblr (Opens in new window)\n\n	Related\n
URL:http://www.artexhibitions.org.uk/event/fresh-artisan-market-norwich/
LOCATION:The Shoe Factory Social Club\, St. Mary's Works\, St. Mary's Plain\, Oak St\, Norwich\, NR3 3AF\, United Kingdom
CATEGORIES:Art Fair,Norfolk,Norwich
ATTACH;FMTTYPE=image/jpeg:http://www.artexhibitions.org.uk/wp-content/uploads/2017/05/61998cab4926287c5d459cde967b5a87.jpg
END:VEVENT
END:VCALENDAR