BEGIN:VCALENDAR
VERSION:2.0
PRODID:-//Art Exhibitions UK - ECPv4.9.10//NONSGML v1.0//EN
CALSCALE:GREGORIAN
METHOD:PUBLISH
X-WR-CALNAME:Art Exhibitions UK
X-ORIGINAL-URL:http://www.artexhibitions.org.uk
X-WR-CALDESC:Events for Art Exhibitions UK
BEGIN:VTIMEZONE
TZID:Europe/Paris
BEGIN:DAYLIGHT
TZOFFSETFROM:+0100
TZOFFSETTO:+0200
TZNAME:CEST
DTSTART:20180325T010000
END:DAYLIGHT
BEGIN:STANDARD
TZOFFSETFROM:+0200
TZOFFSETTO:+0100
TZNAME:CET
DTSTART:20181028T010000
END:STANDARD
END:VTIMEZONE
BEGIN:VEVENT
DTSTART;TZID=Europe/Paris:20180414T120000
DTEND;TZID=Europe/Paris:20180414T160000
DTSTAMP:20260421T122401
CREATED:20180405T125322Z
LAST-MODIFIED:20180405T125322Z
UID:995-1523707200-1523721600@www.artexhibitions.org.uk
SUMMARY:John Kiki Exhibition & Book Launch\, Mandell's Gallery\, Norwich
DESCRIPTION:An exhibition of recent works by English figurative painter John Kiki who has deep roots in the Greek Cypriot community. He trained in the sixties at Camberwell Art School and at the Royal Academy Schools where Frank Auerbach mentored him. He relocated to the East Anglian coast where he continues to make his instantly recognisable\, large\, figurative paintings. John Kiki and Keith Roberts\, author of a new book about the artist\, will both be at the gallery on Sat 14 Apr 12pm–4pm for a book signing. \nPrivate View\nSat 7 Apr 2018 \nBook Launch\nSat 14 Apr 2018 12pm–4pm. \nExhibition\nContinues until 28 Apr 2018\nMon–Sat 10am–5pm \nShare this:Click to share on Twitter (Opens in new window)Click to share on Facebook (Opens in new window)Click to share on Google+ (Opens in new window)Click to share on Pinterest (Opens in new window)Click to share on Tumblr (Opens in new window)\n\n	Related\n
URL:http://www.artexhibitions.org.uk/event/john-kiki-exhibition-book-launch-mandells-gallery-norwich/
LOCATION:Mandell’s Gallery\, Elm Hill\, Norwich\, NR3 1HN\, United Kingdom
CATEGORIES:Art Exhibition,Books,Norfolk,Norwich,Private View
ATTACH;FMTTYPE=image/jpeg:http://www.artexhibitions.org.uk/wp-content/uploads/2018/03/830225d35dac661fa1b29201daae6453.jpg
END:VEVENT
END:VCALENDAR