BEGIN:VCALENDAR
VERSION:2.0
PRODID:-//Art Exhibitions UK - ECPv4.9.10//NONSGML v1.0//EN
CALSCALE:GREGORIAN
METHOD:PUBLISH
X-WR-CALNAME:Art Exhibitions UK
X-ORIGINAL-URL:http://www.artexhibitions.org.uk
X-WR-CALDESC:Events for Art Exhibitions UK
BEGIN:VTIMEZONE
TZID:UTC
BEGIN:STANDARD
TZOFFSETFROM:+0000
TZOFFSETTO:+0000
TZNAME:UTC
DTSTART:20170101T000000
END:STANDARD
END:VTIMEZONE
BEGIN:VEVENT
DTSTART;TZID=UTC:20170324T180000
DTEND;TZID=UTC:20170407T010000
DTSTAMP:20260420T045655
CREATED:20170222T111639Z
LAST-MODIFIED:20170222T111741Z
UID:407-1490378400-1491526800@www.artexhibitions.org.uk
SUMMARY:Karen SJ Keable Art Exhibition\, Southwold Gallery\, Suffolk
DESCRIPTION:To mark her 50th year\, artist Karen Keable has been working very hard for the past two years to produce an amazing collection of pieces for this exhibition. More details to follow….. \nAbout the artist\, Karen SJ Keable\n“Inspiration for my paintings comes from the amazing Norfolk and Suffolk scenery\, which I see every day: The dramatic sky\, light reflecting off water\, rugged old boats\, a pile of fishing paraphernalia on a beach. Everyday things just lying around\, that when the light hits them look amazing. An inspirational sky for me conjures up all sorts of emotional feelings\, lost loved ones\, angels\, hopes and dreams\, what’s to come. That particular feeling I portray in my painting creating a drama which the viewer interprets in a personal way to them.” \nKaren was born in Great Yarmouth\, Norfolk in 1966\, the granddaughter of Guernsey artist Louis Le Ray. As an adult\, Karen travelled the world living in Singapore\, Bangkok\, Australia and Norway. During this time she developed her love of drawing and painting\, undertaking portrait commissions and running art classes. ‘Living in all of those great places\, gave me the opportunity to see new cultures\, new colours and new scenes all of which would have an effect on my painting.’ \nOn her return to Britain Karen studied Art in Aberdeen. She moved to Southwold seafront in 1999 and realized her natural ability to capture the sea. She enjoyed limitless views of the beach\, the groynes\, the sea\, birds\, people\, beach huts and of course the waves crashing onto the sand. Her paintings became increasingly popular. \nIn 2004 two of her paintings were selected for a permanent art collection in the House of Lords. See more… \nShare this:Click to share on Twitter (Opens in new window)Click to share on Facebook (Opens in new window)Click to share on Google+ (Opens in new window)Click to share on Pinterest (Opens in new window)Click to share on Tumblr (Opens in new window)\n\n	Related\n
URL:http://www.artexhibitions.org.uk/event/karen-sj-keable-art-exhibition-southwold-gallery-suffolk/
LOCATION:Southwold Gallery\, 64 High Street\, Southwold\, IP18 6DN\, United Kingdom
CATEGORIES:Art Exhibition,Solo Art Show,Southwold,Suffolk
ATTACH;FMTTYPE=image/jpeg:http://www.artexhibitions.org.uk/wp-content/uploads/2017/02/Karen-SJ-Keable-Art-Exhibition-Southwold-Gallery-Suffolk.jpg
END:VEVENT
END:VCALENDAR