BEGIN:VCALENDAR
VERSION:2.0
PRODID:-//Art Exhibitions UK - ECPv4.9.10//NONSGML v1.0//EN
CALSCALE:GREGORIAN
METHOD:PUBLISH
X-WR-CALNAME:Art Exhibitions UK
X-ORIGINAL-URL:http://www.artexhibitions.org.uk
X-WR-CALDESC:Events for Art Exhibitions UK
BEGIN:VTIMEZONE
TZID:Europe/London
BEGIN:DAYLIGHT
TZOFFSETFROM:+0000
TZOFFSETTO:+0100
TZNAME:BST
DTSTART:20190331T010000
END:DAYLIGHT
BEGIN:STANDARD
TZOFFSETFROM:+0100
TZOFFSETTO:+0000
TZNAME:GMT
DTSTART:20191027T010000
END:STANDARD
END:VTIMEZONE
BEGIN:VEVENT
DTSTART;TZID=Europe/London:20191017T100000
DTEND;TZID=Europe/London:20191027T150000
DTSTAMP:20260420T125035
CREATED:20191024T110050Z
LAST-MODIFIED:20191024T110050Z
UID:1226-1571306400-1572188400@www.artexhibitions.org.uk
SUMMARY:Paint Out Norfolk Gardens Series 2019\, Art Exhibition\, Hostry Festival
DESCRIPTION:Norfolk has a great range of glorious gardens from country cottage to heritage halls\, brick-walled to those bounded by hedges filled with garden rooms and the horticultural art of topiary. 36 Paint Out artists created artworks in 6 historic or hidden Norfolk gardens throughout the seasons and in all weathers: Stody Lodge Gardens\, Elsing Hall\, Houghton Walled Garden\, Hunworth Hall\, and in Norwich itself Bishop’s House Gardens and The Plantation Garden. \nThe Art Exhibition is on 17-27 October in the Norwich Cathedral Hostry 10-4pm daily (11-3pm Sunday) \n  \nShare this:Click to share on Twitter (Opens in new window)Click to share on Facebook (Opens in new window)Click to share on Google+ (Opens in new window)Click to share on Pinterest (Opens in new window)Click to share on Tumblr (Opens in new window)\n\n	Related\n
URL:http://www.artexhibitions.org.uk/event/paint-out-norfolk-gardens-series-2019-art-exhibition-hostry-festival/
LOCATION:Norwich Cathedral\, Norwich\, NR3 1LB\, United Kingdom
CATEGORIES:Art Exhibition,Norfolk,Norwich,Plein Air
ATTACH;FMTTYPE=image/jpeg:http://www.artexhibitions.org.uk/wp-content/uploads/2019/10/KJW04146-Paint-Out-Norfolk-Gardens-Series-Exhibition.jpg
ORGANIZER;CN="Paint%20Out":MAILTO:info@paintout.org
END:VEVENT
END:VCALENDAR