BEGIN:VCALENDAR
VERSION:2.0
PRODID:-//Art Exhibitions UK - ECPv4.9.10//NONSGML v1.0//EN
CALSCALE:GREGORIAN
METHOD:PUBLISH
X-WR-CALNAME:Art Exhibitions UK
X-ORIGINAL-URL:http://www.artexhibitions.org.uk
X-WR-CALDESC:Events for Art Exhibitions UK
BEGIN:VTIMEZONE
TZID:Europe/Paris
BEGIN:DAYLIGHT
TZOFFSETFROM:+0100
TZOFFSETTO:+0200
TZNAME:CEST
DTSTART:20180325T010000
END:DAYLIGHT
BEGIN:STANDARD
TZOFFSETFROM:+0200
TZOFFSETTO:+0100
TZNAME:CET
DTSTART:20181028T010000
END:STANDARD
END:VTIMEZONE
BEGIN:VEVENT
DTSTART;TZID=Europe/Paris:20180428T090000
DTEND;TZID=Europe/Paris:20180428T210000
DTSTAMP:20260421T140815
CREATED:20180320T160016Z
LAST-MODIFIED:20180320T160016Z
UID:960-1524906000-1524949200@www.artexhibitions.org.uk
SUMMARY:Rachel Morrell\, Artworks\, The Station\, Richmond\, Yorks
DESCRIPTION:Rachel located to Wensleydale some years ago and now enjoys spending time painting. Her work is mainly in acrylics\, although she has spent many years painting in watercolour\, oils and on silk. \nHer inspiration comes from colour and contrast in the landscape. \nThe challenge is to simplify\, with the occasional foray into abstract work and printmaking. \nhttp://www.rachelmorrell.co.uk \nthewhitfieldstudio@gmail.com \nShare this:Click to share on Twitter (Opens in new window)Click to share on Facebook (Opens in new window)Click to share on Google+ (Opens in new window)Click to share on Pinterest (Opens in new window)Click to share on Tumblr (Opens in new window)\n\n	Related\n
URL:http://www.artexhibitions.org.uk/event/rachel-morrell-the-station-richmond-yorks/
LOCATION:The Station\, Station Yard\, Richmond\, DL10 4LD\, United Kingdom
CATEGORIES:Art Exhibition,Richmond,Yorkshire
ATTACH;FMTTYPE=image/jpeg:http://www.artexhibitions.org.uk/wp-content/uploads/2018/03/aab40340abee6f3fbdbf20afc69c06ad.jpg
END:VEVENT
END:VCALENDAR